Workbook

Sheet 入力フォーム【変更】
C2: この申請様式（エクセル）の使い方について
D3: この入力フォーム【変更】では、交付申請書を提出して、市から交付決定通知書が送付された後に、交付申請額（受講料等または研修種別）に変更が生じた場合に、各必要項目を入力することにより、「事業計画変更申請書」や「請求書」などの各提出書類が作成できます。（各提出書類での入力は必要ありません。） 塗りつぶしのないセル（青色のセルは必要に応じて）を入力してください。
D5: 提出方法
E7: 入力後のこのエクセルデータを電子メールでご提出ください。
E8: ※研修の受講ごとに（研修１件につき申請１件）作成してご提出ください。
E9: ※ | F9: 当初交付申請時に未提出の「研修修了証」と「領収書」がある場合は、写しを添付してください。（スキャンデータをメールに添付またはコピーを郵送）
E11: ※「委任状」は押印が必要なため、原本を郵送によりご提出ください。
D14: 提出期限
E15: 変更が生じた際は速やかにご提出ください。
D18: 提出先
E19: （送付先）
E20: 〒238-8550 横須賀市小川町11番地
E21: 横須賀市民生局福祉こども部障害福祉課 給付・施設担当（電話：046-822-9488）
E22: （メール送信先）
E23: ・メールアドレス：wf-shogai@city.yokosuka.kanagawa.jp
E24: （受付時間）
E25: ・8時30分～17時15分（土日、祝休日、年末年始を除く）
B27: 申請者
B29: １ 事業変更申請書の提出年月日
B30: 提出年月日を日付形式（和暦または西暦）で入力してください。
B31: 提出年月日 | K31: 46235
B32: ２ 申請者（法人）
B33: 法人の所在地 | K33: 〒 | L33: 2388550
K34: 横須賀市○○町123番地
B35: 法人の名称 | K35: 社会福祉法人 よこすか福祉会
B36: 代表者の役職・氏名 | K36: 理事長 福祉 花子
B38: 補助事業対象者（研修受講者）
B39: 市内の障害福祉サービス事業所等に従事する職員（市外在住者を含む）が対象の研修を受講し、その受講料等を申請者（雇用主）が負担した場合に補助の対象となります。
B40: １ 受講者の情報
B41: 氏名（漢字） | N41: 職種等 | AF41: 雇用形態 | AO41: 職種等 | AQ41: サービス種別
B42: 支援 良男 | N42: 生活支援員 | AF42: 常勤 | AO42: 管理者 | AQ42: 施設入所支援
B43: ２ 受講者が従事する事業所の情報 | AO43: サービス管理責任者 | AQ43: 共同生活援助
B44: 事業所番号 | K44: 1421012345 | AO44: 生活支援員 | AQ44: 福祉型障害児入所施設
B45: 事業所名 | K45: グループホームよこすか | AO45: 世話人 | AQ45: 医療型障害児入所施設
B46: サービス種別 | K46: 共同生活援助 | AO46: 職業指導員 | AQ46: 療養介護
B47: 事業所所在地 | K47: 〒 | L47: 2388550 | AO47: 相談支援専門員 | AQ47: 生活介護
K48: 横須賀市○○町1-2-3 マンションよこすか101 | AO48: 就労支援員 | AQ48: 重度障害者等包括支援
B49: ３ 受講した研修の情報 | AO49: ホームヘルパー | AQ49: 自立訓練（機能訓練・生活訓練） | AS49: 研修種別 | AT49: 補助基準額
B50: 研修種別 | K50: 喀痰吸引等研修（第１号研修） | AO50: 医師 | AQ50: 就労選択支援 | AS50: 強度行動障害支援者養成研修 | AT50: 30000
B51: 研修の名称等 | K51: ○○○○研修 | AO51: 看護師 | AQ51: 就労移行支援 | AS51: 喀痰吸引等研修（第１号研修） | AT51: 100000
B52: 研修実施機関 | K52: 神奈川県○○研修センター | AO52: 保健師 | AQ52: 就労継続支援Ａ型 | AS52: 喀痰吸引等研修（第２号研修） | AT52: 80000
B53: 研修修了年月日 | K53: 46157 | W53: 受講料等 | AF53: 123456 | AL53: 円 | AO53: 作業療法士 | AQ53: 就労継続支援Ｂ型 | AS53: 喀痰吸引等研修（第３号研修） | AT53: 40000
W54: 補助基準額 | AF54: =IF(ISBLANK(K50),"",VLOOKUP(K50,AS50:AT60,2,FALSE)) -> 100000 | AL54: 円 | AO54: 理学療法士 | AQ54: 短期入所 | AS54: 重度訪問介護従事者養成研修 | AT54: 40000
W55: 変更交付申請額 | AF55: =IF(OR(ISBLANK(AF53),AF54=""),"",MIN(AF53,AF54)) -> 100000 | AL55: 円 | AO55: 言語聴覚士 | AQ55: 居宅介護 | AS55: 行動援護従事者養成研修 | AT55: 40000
AO56: 事務職員 | AQ56: 重度訪問介護 | AS56: 同行援護従事者養成研修 | AT56: 40000
B57: 事業計画変更申請情報 | AO57: 調理員 | AQ57: 同行援護 | AS57: 全身性障害者移動支援従業者養成研修 | AT57: 40000
B58: 市から送付された交付決定通知書の交付決定額（当初交付申請時の交付申請額）を入力してください。 | AO58: 清掃員 | AQ58: 行動援護 | AS58: 知的障害者移動支援従業者養成研修 | AT58: 30000
B59: 交付決定額（変更前） | K59: 98765 | Q59: 円 | AO59: 運転手 | AQ59: 就労定着支援 | AS59: 福祉有償運送運転者講習等 | AT59: 40000
B60: 事業計画変更申請書の提出が必要となった理由等を入力してください。 | AQ60: 自立生活援助 | AS60: その他、厚生労働大臣又はこども家庭庁長官が定める研修のうち、障害福祉サービス等報酬の算定要件となる研修 | AT60: 30000
B61: 変更理由等 | K61: 受講手数料と保険料を含めずに交付申請を行っていたため。 | AQ61: 計画相談支援
AQ62: 地域移行支援
AQ63: 地域定着支援
AQ64: 児童発達支援
B65: ▼交付申請額 | AQ65: 放課後等デイサービス
B66: 変更前 | K66: =IF(ISBLANK(K59),"",K59) -> 98765 | Q66: 円 | S66: {=IF(ISBLANK(K59),"",_xlfn.IFS(K68<0,"変更後の交付申請額が既交付決定額を下回っているため、超過交付となっている補助金額の返還が必要となります。後日、戻入の納付書を送付します。（次の「請求情報」は入力不要）",K68=0,"交付申請額に変更がないため、事業計画変更申請書の提出は必要ありません。",K68>0,"今回の事業計画変更申請書の提出により、補助金の追加交付があるため、次の「請求情報」の各項目を入力してください。"))} -> 今回の事業計画変更申請書の提出により、補助金の追加交付があるため、次の「請求情報」の各項目を入力してください。 | AQ66: 居宅訪問型児童発達支援
B67: 変更後 | K67: =IF(ISBLANK(AF53),"",AF55) -> 100000 | Q67: 円 | AQ67: 保育所等訪問支援
B68: 差引額 | K68: =IF(ISBLANK(K59),"",K67-K66) -> 1235 | Q68: 円 | AQ68: 障害児相談支援
AQ69: 移動支援事業
AQ70: 日中一時支援
B71: 請求情報 | AQ71: 地域活動支援センター
B72: １ 請求年月日等
B73: 標準事務処理期間（30日間）を基に、交付決定日や請求書の提出年月日等を設定しています。
B74: 交付決定日（予定） | K74: =IF(ISBLANK(K31),"",K31+18-WEEKDAY(K31)) -> 46246
B75: 請求書提出年月日 | K75: =IF(OR(K68<0,ISBLANK(K31)),"",K31+18-WEEKDAY(K31)) -> 46246
B76: 請求金額 | K76: =IF(ISBLANK(K59),"",IF(K68>0,K68,"＊＊＊＊＊")) -> 1235
B77: 支払予定日 | K77: =IF(OR(K68<0,ISBLANK(K31)),"",K31+40-WEEKDAY(K31)) -> 46268
B78: 実績報告年月日 | K78: =IF(ISBLANK(K31),"",K31+18-WEEKDAY(K31)) -> 46246
B79: ※交付決定日や支払予定日は、前後する場合があります。
B80: ２ 振込先口座
B81: 補助金の振込先口座を入力してください。
B82: 金融機関名 | K82: よこすか銀行 | X82: 金融機関コード | AD82: 123
B83: 支店等名 | K83: よこすか支店 | X83: 支店等コード | AD83: 456
B84: 預金種別 | K84: 普通預金 | S84: 口座番号 | AB84: 123456
B85: 口座名義人（ﾌﾘｶﾞﾅ） ※半角カタカナ | K85: ﾌｸ)ｶﾅｶﾞﾜﾌｸｼｶｲ ﾘｼﾞﾁﾖｳ ｶｲｺﾞ ﾘﾖｳｺ
B86: ※補助金の受領に関する権限を他者に委任する（申請者と口座名義人が異なる）場合は、「５ 補助金の受領の権限の委任に関する情報」を入力してください。
B87: ３ 補助金の請求事務に係る責任者
B88: ※責任者とは、理事長や代表取締役、施設長など社内において権限の委任を受けた役職員です。
B89: 役職・氏名 | K89: 管理者 福祉 太郎
B90: 電話番号 | K90: 046-822-4000 | U90: FAX番号 | AD90: 046-822-9000
B91: メールアドレス | K91: wf-shogai@city.yokosuka.kanagawa.jp
B92: 4 補助金の請求事務に係る担当者
B93: ※担当者とは、請求事務を担当する職員です。責任者と同じでも構いません。
B94: 所属・氏名 | K94: 経理担当 療育 正男
B95: 電話番号 | K95: 046-822-9488 | U95: FAX番号 | AD95: 046-825-6040
B96: メールアドレス | K96: wf-gwc@city.yokosuka.kanagawa.jp
B97: ５ 補助金の受領の権限の委任に関する情報
B98: ※補助金の受領の権限を他者に委任（申請者と振込先口座名義人が異なる）場合は、次の各項目を入力してください。
B99: （１）提出年月日
B100: 委任状提出年月日 | K100: =IF(ISBLANK(K104),"",K31+18-WEEKDAY(K31)) -> 46246
B101: （２）代理人に関する情報
B102: 代理人住所（法人所在地） | K102: 〒 | L102: 9999999
K103: ○○市○○町○○区4-5-6 かながわビル１階
B104: 代理人氏名（法人名称） | K104: 社会福祉法人 かながわ福祉会
B105: 代表者役職氏名 （法人の場合のみ） | K105: 理事長 介護 良子

Sheet 変更申請書
A1: 事業計画変更申請書
T4: =IF(ISBLANK(入力フォーム【変更】!K31),"令和 年 月 日",入力フォーム【変更】!K31) -> 46235
B5: （あて先）横須賀市長
N7: 〒 | P7: =IF(ISBLANK(入力フォーム【変更】!L33)," -",入力フォーム【変更】!L33) -> 2388550
F8: 申請者 | J8: 所在地 | N8: =IF(ISBLANK(入力フォーム【変更】!K34),"",入力フォーム【変更】!K34) -> 横須賀市○○町123番地
J10: 名 称 | N10: =IF(ISBLANK(入力フォーム【変更】!K35),"",入力フォーム【変更】!K35) -> 社会福祉法人 よこすか福祉会
J12: 代表者 | N12: =IF(ISBLANK(入力フォーム【変更】!K36),"",入力フォーム【変更】!K36) -> 理事長 福祉 花子
B15: 事業所名 | G15: =IF(ISBLANK(入力フォーム【変更】!K45),"",入力フォーム【変更】!K45) -> グループホームよこすか
B17: 事業所所在地 | G17: =IF(ISBLANK(入力フォーム【変更】!K48),"",入力フォーム【変更】!K48) -> 横須賀市○○町1-2-3 マンションよこすか101
A20: 補助金等の名称 | I20: 障害福祉サービス等従事職員研修費補助金
A22: 補助事業等の名称 | I22: 社会福祉施設育成事業（障害）
A24: 変更の内容
P25: 交付申請額
J26: 変更前 | P26: =IF(ISBLANK(入力フォーム【変更】!K59),"円",入力フォーム【変更】!K59) -> 98765
J27: 変更後 | P27: =IF(ISBLANK(入力フォーム【変更】!AF53),"円",入力フォーム【変更】!AF55) -> 100000
J28: 差引額 | P28: =IF(G15="","円",P27-P26) -> 1235
A30: 変更年月日 | I30: =IF(ISBLANK(入力フォーム【変更】!K31),"令和 年 月 日",入力フォーム【変更】!K31) -> 46235
A32: 変更の理由 | I32: =IF(ISBLANK(入力フォーム【変更】!K61),"",入力フォーム【変更】!K61) -> 受講手数料と保険料を含めずに交付申請を行っていたため。
A38: 添付書類
J39: １ 障害福祉サービス等従事職員研修費補助金事業計画書
J40: ２ 研修修了証の写し（未提出の場合のみ）
J41: ３ 研修受講料等の領収書の写し（未提出の場合のみ）
A43: （事務処理欄）

Sheet 事業計画書
A1: =IF(ISBLANK(入力フォーム【変更】!K31),"令和 年度 障害福祉サービス等従事職員研修費補助金「事業計画書」",TEXT(EDATE(入力フォーム【変更】!K31,-3),"ggge")&"年度 障害福祉サービス等従事職員研修費補助金「事業計画書」") -> 令和8年度 障害福祉サービス等従事職員研修費補助金「事業計画書」
Z3: =IF(ISBLANK(入力フォーム【変更】!K31),"令和 年（ 年） 月 日",入力フォーム【変更】!K31) -> 46235
A4: 横須賀市長 様
AJ5: =IF(ISBLANK(入力フォーム【変更】!K34),"",入力フォーム【変更】!K34) -> 横須賀市○○町123番地
AJ6: =IF(ISBLANK(入力フォーム【変更】!K35),"",入力フォーム【変更】!K35) -> 社会福祉法人 よこすか福祉会
AJ7: =IF(ISBLANK(入力フォーム【変更】!K36),"",入力フォーム【変更】!K36) -> 理事長 福祉 花子
A9: 以下のとおり、当事業所に従事する職員が研修を受講し、当該補助事業を行います。 なお、研修の受講料等については、他の助成等を受けず、当事業所がその全額を負担するものとし、当該職員にあっては、当事業所において現に雇用し、引き続き従事する見込みであることを申し添えます。
A13: １ 補助事業
A14: 補助金等の名称 | J14: 障害福祉サービス等従事職員研修費補助金
A17: ２ 補助事業の目的
A18: 補助事業の目的 | J18: 当事業所に従事する職員が各種研修の受講を通じて専門的な支援等の知識や技術を習得することにより職員の資質向上を図るとともに、各種報酬加算の算定を受けることにより障害福祉サービス事業の経営健全化を図り、もって従事職員の処遇改善及び質の高い利用者サービスを提供するため。
A23: ３ 補助事業対象者（研修受講者）
A24: 受講者氏名 | J24: =IF(ISBLANK(入力フォーム【変更】!B42),"",入力フォーム【変更】!B42) -> 支援 良男 | X24: 雇用形態 | AE24: =IF(ISBLANK(入力フォーム【変更】!AF42),"",入力フォーム【変更】!AF42) -> 常勤
A26: 職種等 | J26: =IF(ISBLANK(入力フォーム【変更】!N42),"",入力フォーム【変更】!N42) -> 生活支援員
A28: 所属事業所 | I28: 事業所番号 | N28: =IF(ISBLANK(入力フォーム【変更】!K44),"",入力フォーム【変更】!K44) -> 1421012345 | T28: サービス種別 | AA28: =IF(ISBLANK(入力フォーム【変更】!K46),"",入力フォーム【変更】!K46) -> 共同生活援助
I30: 名 称 | O30: =IF(ISBLANK(入力フォーム【変更】!K45),"",入力フォーム【変更】!K45) -> グループホームよこすか
I32: 所在地 | O32: =IF(ISBLANK(入力フォーム【変更】!K48),"",入力フォーム【変更】!K48) -> 横須賀市○○町1-2-3 マンションよこすか101
A34: ４ 補助対象事業の内容（研修の概要）
A35: 研修種別 | J35: =IF(ISBLANK(入力フォーム【変更】!K50),"",入力フォーム【変更】!K50) -> 喀痰吸引等研修（第１号研修）
A37: 研修名 | J37: =IF(ISBLANK(入力フォーム【変更】!K51),"",入力フォーム【変更】!K51) -> ○○○○研修
A39: 研修実施機関 | J39: =IF(ISBLANK(入力フォーム【変更】!K52),"",入力フォーム【変更】!K52) -> 神奈川県○○研修センター
A41: ５ 補助対象経費
A42: 受講料等 | J42: =IF(ISBLANK(入力フォーム【変更】!AF53),"",入力フォーム【変更】!AF53) -> 123456 | Q42: 円 | S42: 補助基準額 | AB42: =IF(ISBLANK(入力フォーム【変更】!AF53),"",入力フォーム【変更】!AF54) -> 100000 | AI42: 円
A44: ※「受講料等」と「補助基準額」とを比較していずれか低い額を交付申請額とすること。

Sheet 請求書
U2: =IF(OR(入力フォーム【変更】!K68<0,ISBLANK(入力フォーム【変更】!K31)),"令和 年 月 日",入力フォーム【変更】!K75) -> 46246
A3: 請求書
B5: （あて先）横須賀市長
N7: 〒 | O7: =IF(OR(入力フォーム【変更】!K68<0,ISBLANK(入力フォーム【変更】!L33))," -",入力フォーム【変更】!L33) -> 2388550
J8: 所在地 | N8: =IF(OR(入力フォーム【変更】!K68<0,ISBLANK(入力フォーム【変更】!K34)),"",入力フォーム【変更】!K34) -> 横須賀市○○町123番地
J10: 名 称 | N10: =IF(OR(入力フォーム【変更】!K68<0,ISBLANK(入力フォーム【変更】!K35)),"",入力フォーム【変更】!K35) -> 社会福祉法人 よこすか福祉会
J12: 代表者 | N12: =IF(OR(入力フォーム【変更】!K68<0,ISBLANK(入力フォーム【変更】!K36)),"",入力フォーム【変更】!K36) -> 理事長 福祉 花子
B15: 事業所名 | H15: =IF(OR(入力フォーム【変更】!K68<0,ISBLANK(入力フォーム【変更】!K45)),"",入力フォーム【変更】!K45) -> グループホームよこすか
B17: 事業所所在地 | H17: =IF(OR(入力フォーム【変更】!K68<0,ISBLANK(入力フォーム【変更】!K48)),"",入力フォーム【変更】!K48) -> 横須賀市○○町1-2-3 マンションよこすか101
B20: =IF(ISBLANK(入力フォーム【変更】!K31)," ただし、令和 年度 障害福祉サービス等従事職員研修費補助金として請求します。"," ただし、"&TEXT(EDATE(入力フォーム【変更】!K31,-3),"ggge")&"年度 障害福祉サービス等従事職員研修費補助金として請求します。") -> ただし、令和8年度 障害福祉サービス等従事職員研修費補助金として請求します。
F22: 請求金額 | K22: =IF(入力フォーム【変更】!K68<0,"＊＊＊＊＊",入力フォーム【変更】!K76) -> 1235 | T22: 円也
B26: ■振込先口座
B27: 金融機関名 | F27: =IF(OR(入力フォーム【変更】!K68<0,ISBLANK(入力フォーム【変更】!K82)),"",入力フォーム【変更】!K82) -> よこすか銀行 | T27: 金融機関CD | X27: =IF(OR(入力フォーム【変更】!K68<0,ISBLANK(入力フォーム【変更】!AD82)),"",入力フォーム【変更】!AD82) -> 123
B28: 支店等名 | F28: =IF(OR(入力フォーム【変更】!K68<0,ISBLANK(入力フォーム【変更】!K83)),"",入力フォーム【変更】!K83) -> よこすか支店 | T28: 支店コード | X28: =IF(OR(入力フォーム【変更】!K68<0,ISBLANK(入力フォーム【変更】!AD83)),"",入力フォーム【変更】!AD83) -> 456
B29: 預金種別 | F29: =IF(OR(入力フォーム【変更】!K68<0,ISBLANK(入力フォーム【変更】!K84)),"普通・当座・その他（ ）",入力フォーム【変更】!K84) -> 普通預金 | P29: 口座番号 | T29: =IF(OR(入力フォーム【変更】!K68<0,ISBLANK(入力フォーム【変更】!AB84)),"",入力フォーム【変更】!AB84) -> 123456
B30: 口座名義人 （フリガナ） | F30: =IF(OR(入力フォーム【変更】!K68<0,ISBLANK(入力フォーム【変更】!K85)),"",入力フォーム【変更】!K85) -> ﾌｸ)ｶﾅｶﾞﾜﾌｸｼｶｲ ﾘｼﾞﾁﾖｳ ｶｲｺﾞ ﾘﾖｳｺ
C33: ■本件責任者
D34: 役職・氏名： | I34: =IF(OR(入力フォーム【変更】!K68<0,ISBLANK(入力フォーム【変更】!K89)),"",入力フォーム【変更】!K89) -> 管理者 福祉 太郎
D35: 電話番号： | I35: =IF(OR(入力フォーム【変更】!K68<0,ISBLANK(入力フォーム【変更】!K90)),"",入力フォーム【変更】!K90) -> 046-822-4000 | P35: ＦＡＸ番号： | U35: =IF(OR(入力フォーム【変更】!K68<0,ISBLANK(入力フォーム【変更】!AD90)),"",入力フォーム【変更】!AD90) -> 046-822-9000
D36: 電子メール： | I36: =IF(OR(入力フォーム【変更】!K68<0,ISBLANK(入力フォーム【変更】!K91)),"",入力フォーム【変更】!K91) -> wf-shogai@city.yokosuka.kanagawa.jp
C37: ■担当者
D38: 役職・氏名： | I38: =IF(OR(入力フォーム【変更】!K68<0,ISBLANK(入力フォーム【変更】!K94)),"",入力フォーム【変更】!K94) -> 経理担当 療育 正男
D39: 電話番号： | I39: =IF(OR(入力フォーム【変更】!K68<0,ISBLANK(入力フォーム【変更】!K95)),"",入力フォーム【変更】!K95) -> 046-822-9488 | P39: ＦＡＸ番号： | U39: =IF(OR(入力フォーム【変更】!K68<0,ISBLANK(入力フォーム【変更】!AD95)),"",入力フォーム【変更】!AD95) -> 046-825-6040
D40: 電子メール： | I40: =IF(OR(入力フォーム【変更】!K68<0,ISBLANK(入力フォーム【変更】!K96)),"",入力フォーム【変更】!K96) -> wf-gwc@city.yokosuka.kanagawa.jp

Sheet 委任状
A1: （請求者と口座名義人が異なる場合に提出してください）
A4: 委任状
R6: =IF(OR(入力フォーム【変更】!K68<0,ISBLANK(入力フォーム【変更】!K103)),"令和 年 月 日",入力フォーム【変更】!K100) -> 46246
B8: （あて先）横須賀市長
I11: 委任者（請求者）
N12: 〒 | O12: =IF(OR(入力フォーム【変更】!K68<0,入力フォーム【変更】!K100="")," -",入力フォーム【変更】!L33) -> 2388550
J13: 所在地 | N13: =IF(OR(入力フォーム【変更】!K68<0,入力フォーム【変更】!K100=""),"",入力フォーム【変更】!K34) -> 横須賀市○○町123番地
J15: 名 称 | N15: =IF(OR(入力フォーム【変更】!K68<0,入力フォーム【変更】!K100=""),"",入力フォーム【変更】!K35) -> 社会福祉法人 よこすか福祉会
J17: 代表者 | N17: =IF(OR(入力フォーム【変更】!K68<0,入力フォーム【変更】!K100=""),"",入力フォーム【変更】!K36) -> 理事長 福祉 花子 | Z17: ㊞
C20: 私は、次の者を代理人と定め、下記の権限を委任します。
A24: 記
C27: １ 代理人（口座名義人）
J28: 〒 | K28: =IF(OR(入力フォーム【変更】!K68<0,入力フォーム【変更】!K100="")," -",入力フォーム【変更】!L102) -> 9999999
D29: 住 所 （法人所在地） | J29: =IF(OR(入力フォーム【変更】!K68<0,入力フォーム【変更】!K100=""),"",入力フォーム【変更】!K103) -> ○○市○○町○○区4-5-6 かながわビル１階
D31: 氏 名 （法人名称） | J31: =IF(OR(入力フォーム【変更】!K68<0,入力フォーム【変更】!K100=""),"",入力フォーム【変更】!K104) -> 社会福祉法人 かながわ福祉会
D33: 代 表 者 （法人に限る） | J33: =IF(OR(入力フォーム【変更】!K68<0,入力フォーム【変更】!K100=""),"",入力フォーム【変更】!K105) -> 理事長 介護 良子 | X33: ㊞
C37: ２ 委任事項
D39: =IF(OR(入力フォーム【変更】!K68<0,ISBLANK(入力フォーム【変更】!K31)),"令和 年度 障害福祉サービス等従事職員研修費補助金の受領に関する権限",TEXT(EDATE(入力フォーム【変更】!K31,-3),"ggge")&"年度 障害福祉サービス等従事職員研修費補助金の受領に関する権限") -> 令和8年度 障害福祉サービス等従事職員研修費補助金の受領に関する権限
C43: ３ 振込先口座
D45: 別紙、請求書に記載のとおり

Sheet 実績報告書
A1: 実 績 報 告 書
T4: =IF(ISBLANK(入力フォーム【変更】!K31),"令和 年 月 日",入力フォーム【変更】!K78) -> 46246
B5: （あて先）横須賀市長
N7: 〒 | P7: =IF(ISBLANK(入力フォーム【変更】!L33),"",入力フォーム【変更】!L33) -> 2388550
F8: 申請者 | J8: 所在地 | N8: =IF(ISBLANK(入力フォーム【変更】!K34),"",入力フォーム【変更】!K34) -> 横須賀市○○町123番地
J10: 名 称 | N10: =IF(ISBLANK(入力フォーム【変更】!K35),"",入力フォーム【変更】!K35) -> 社会福祉法人 よこすか福祉会
J12: 代表者 | N12: =IF(ISBLANK(入力フォーム【変更】!K36),"",入力フォーム【変更】!K36) -> 理事長 福祉 花子
B15: 事業所名 | G15: =IF(ISBLANK(入力フォーム【変更】!K45),"",入力フォーム【変更】!K45) -> グループホームよこすか
B17: 事業所所在地 | G17: =IF(ISBLANK(入力フォーム【変更】!K48),"",入力フォーム【変更】!K48) -> 横須賀市○○町1-2-3 マンションよこすか101
A21: 補助金等の名称 | I21: 障害福祉サービス等従事職員研修費補助金
A24: 補助事業等の名称 | I24: 障害福祉サービス等従事職員研修費補助事業
A27: 交付決定額 | I27: =IF(G15=""," 円",入力フォーム【変更】!AF55) -> 100000
A30: 精算額 | I30: =IF(G15=""," 円",入力フォーム【変更】!AF55) -> 100000
A33: 補助事業等 完了年月日
O34: =IF(ISBLANK(入力フォーム【変更】!K31),"令和 年 月 日",入力フォーム【変更】!K53) -> 46157
A36: 精算に係る 収支明細
J37: 収 入 | S37: 支 出
J38: 補助金 | N38: =IF(G15="","",入力フォーム【変更】!AF55) -> 100000 | R38: 円 | S38: 研修受講料等 | W38: =IF(G15="","",入力フォーム【変更】!AF53) -> 123456 | AA38: 円
J39: その他の収入 | N39: =IF(G15="","",IF(W38>N38,W38-N38,0)) -> 23456 | R39: 円 | W39: =IF(G15="","",0) -> 0 | AA39: 円
J40: 合 計 | N40: =IF(G15="","",SUM(N38:Q39)) -> 123456 | R40: 円 | S40: 合 計 | W40: =IF(G15="","",SUM(W38:Z39)) -> 123456 | AA40: 円
A42: 添付書類
J43: 障害福祉サービス等従事職員研修費補助金実施結果報告書
A46: （事務処理欄）

Sheet 実施結果報告書
A1: =IF(ISBLANK(入力フォーム【変更】!K31),"令和 年度 障害福祉サービス等従事職員研修費補助金「実施結果報告書」",TEXT(EDATE(入力フォーム【変更】!K31,-3),"ggge")&"年度 障害福祉サービス等従事職員研修費補助金「実施結果報告書」") -> 令和8年度 障害福祉サービス等従事職員研修費補助金「実施結果報告書」
Z3: =IF(ISBLANK(入力フォーム【変更】!K31),"令和 年 月 日",入力フォーム【変更】!K78) -> 46246
A4: 横須賀市長 様
AJ5: =IF(ISBLANK(入力フォーム【変更】!K34),"",入力フォーム【変更】!K34) -> 横須賀市○○町123番地
AJ6: =IF(ISBLANK(入力フォーム【変更】!K35),"",入力フォーム【変更】!K35) -> 社会福祉法人 よこすか福祉会
AJ7: =IF(ISBLANK(入力フォーム【変更】!K36),"",入力フォーム【変更】!K36) -> 理事長 福祉 花子
A9: 以下のとおり、当事業所に従事する職員が研修を修了し、当該補助事業を実施したことを報告します。 なお、研修の受講料等については、他の制度による一切の助成等を受けず、その全額を当事業所が負担したことを申し添えます。
A13: １ 補助事業
A14: 補助金等の名称 | J14: 障害福祉サービス等従事職員研修費補助金
A17: ２ 補助事業による成果
A18: 補助事業の成果 | J18: 当事業所に従事する職員が各種研修の受講を通じて専門的な支援等の知識や技術を習得し、職員の資質向上を図りました。 今後、要件を満たす各種報酬加算の算定を受けることにより障害福祉サービス事業の経営健全化を図り、もって従事職員の処遇改善及び質の高い利用者サービスの提供に努めます。
A23: ３ 補助事業対象者（研修受講者）
A24: 受講者氏名 | J24: =IF(ISBLANK(入力フォーム【変更】!B42),"",入力フォーム【変更】!B42) -> 支援 良男 | X24: 雇用形態 | AE24: =IF(ISBLANK(入力フォーム【変更】!AF42),"",入力フォーム【変更】!AF42) -> 常勤
A26: 職種等 | J26: =IF(ISBLANK(入力フォーム【変更】!N42),"",入力フォーム【変更】!N42) -> 生活支援員
A28: 所属事業所 | I28: 事業所番号 | N28: =IF(ISBLANK(入力フォーム【変更】!K44),"",入力フォーム【変更】!K44) -> 1421012345 | T28: サービス種別 | AA28: =IF(ISBLANK(入力フォーム【変更】!K46),"",入力フォーム【変更】!K46) -> 共同生活援助
I30: 名 称 | O30: =IF(ISBLANK(入力フォーム【変更】!K45),"",入力フォーム【変更】!K45) -> グループホームよこすか
I32: 所在地 | O32: =IF(ISBLANK(入力フォーム【変更】!K48),"",入力フォーム【変更】!K48) -> 横須賀市○○町1-2-3 マンションよこすか101
A34: ４ 補助事業の実施結果
A35: 研修種別 | J35: =IF(ISBLANK(入力フォーム【変更】!K50),"",入力フォーム【変更】!K50) -> 喀痰吸引等研修（第１号研修）
A37: 研修名 | J37: =IF(ISBLANK(入力フォーム【変更】!K51),"",入力フォーム【変更】!K51) -> ○○○○研修
A39: 研修実施機関 | J39: =IF(ISBLANK(入力フォーム【変更】!K52),"",入力フォーム【変更】!K52) -> 神奈川県○○研修センター
A41: 修了年月日 | J41: =IF(ISBLANK(入力フォーム【変更】!K53),"令和 年 月 日",入力フォーム【変更】!K53) -> 46157 | S41: 受講料等 | AB41: =IF(ISBLANK(入力フォーム【変更】!AF53),"",入力フォーム【変更】!AF53) -> 123456 | AI41: 円
A43: ５ 補助金額
A44: 補助基準額 | J44: =IF(ISBLANK(入力フォーム【変更】!AF53),"",入力フォーム【変更】!AF54) -> 100000 | Q44: 円 | S44: 交付決定額 | AB44: =IF(ISBLANK(入力フォーム【変更】!AF53),"",入力フォーム【変更】!AF55) -> 100000 | AI44: 円

Sheet データ貼付用
A1: No. | B1: 変更申請日 | C1: 事業所番号 | D1: 事業所名称 | E1: サービス種別 | F1: 事業所郵便番号 | G1: 事業所所在地 | H1: 法人名称 | I1: 法人郵便番号 | J1: 法人所在地 | K1: 代表者役職氏名 | L1: 受講者氏名 | M1: 職種等 | N1: 雇用形態 | O1: 研修種別 | P1: 研修名 | Q1: 研修実施機関 | R1: 研修修了日 | S1: 受講料等 | T1: 補助基準額 | U1: 交付申請額 | V1: 変更前交付決定額 | W1: 差引額 | X1: 金融機関名 | Y1: 金融機関CD | Z1: 金融機関支店名 | AA1: 支店CD | AB1: 口座種別 | AC1: 口座番号 | AD1: 口座名義人 | AE1: 請求年月日 | AF1: 請求金額 | AG1: 交付決定日（予定） | AH1: 支払予定日 | AI1: 実績報告日
B2: =入力フォーム【変更】!K31 -> 46235 | C2: =入力フォーム【変更】!K44 -> 1421012345 | D2: =入力フォーム【変更】!K45 -> グループホームよこすか | E2: =入力フォーム【変更】!K46 -> 共同生活援助 | F2: =入力フォーム【変更】!L47 -> 2388550 | G2: =入力フォーム【変更】!K48 -> 横須賀市○○町1-2-3 マンションよこすか101 | H2: =入力フォーム【変更】!K35 -> 社会福祉法人 よこすか福祉会 | I2: =入力フォーム【変更】!L33 -> 2388550 | J2: =入力フォーム【変更】!K34 -> 横須賀市○○町123番地 | K2: =入力フォーム【変更】!K36 -> 理事長 福祉 花子 | L2: =入力フォーム【変更】!B42 -> 支援 良男 | M2: =入力フォーム【変更】!N42 -> 生活支援員 | N2: =入力フォーム【変更】!AF42 -> 常勤 | O2: =入力フォーム【変更】!K50 -> 喀痰吸引等研修（第１号研修） | P2: =入力フォーム【変更】!K51 -> ○○○○研修 | Q2: =入力フォーム【変更】!K52 -> 神奈川県○○研修センター | R2: =入力フォーム【変更】!K53 -> 46157 | S2: =入力フォーム【変更】!AF53 -> 123456 | T2: =入力フォーム【変更】!AF54 -> 100000 | U2: =入力フォーム【変更】!AF55 -> 100000 | V2: =入力フォーム【変更】!K59 -> 98765 | W2: =入力フォーム【変更】!K68 -> 1235 | X2: =入力フォーム【変更】!K82 -> よこすか銀行 | Y2: =入力フォーム【変更】!AD82 -> 123 | Z2: =入力フォーム【変更】!K83 -> よこすか支店 | AA2: =入力フォーム【変更】!AD83 -> 456 | AB2: =入力フォーム【変更】!K84 -> 普通預金 | AC2: =入力フォーム【変更】!AB84 -> 123456 | AD2: =入力フォーム【変更】!K85 -> ﾌｸ)ｶﾅｶﾞﾜﾌｸｼｶｲ ﾘｼﾞﾁﾖｳ ｶｲｺﾞ ﾘﾖｳｺ | AE2: =入力フォーム【変更】!K75 -> 46246 | AF2: =入力フォーム【変更】!K76 -> 1235 | AG2: =入力フォーム【変更】!K74 -> 46246 | AH2: =入力フォーム【変更】!K77 -> 46268 | AI2: =入力フォーム【変更】!K78 -> 46246
